BEGIN:VCALENDAR
VERSION:2.0
PRODID:-//ChamberMaster//Event Calendar 2.0//EN
METHOD:PUBLISH
X-PUBLISHED-TTL:P1H
REFRESH-INTERVAL:P1H
CALSCALE:GREGORIAN
BEGIN:VTIMEZONE
TZID:America/Los_Angeles
BEGIN:DAYLIGHT
RRULE:FREQ=YEARLY;BYMONTH=3;BYDAY=2SU
DTSTART:20070101T000000
TZOFFSETFROM:-0800
TZOFFSETTO:-0700
TZNAME:Pacific Daylight Time
END:DAYLIGHT
BEGIN:STANDARD
RRULE:FREQ=YEARLY;BYMONTH=11;BYDAY=1SU
DTSTART:20070101T000000
TZOFFSETFROM:-0700
TZOFFSETTO:-0800
TZNAME:Pacific Standard Time
END:STANDARD
END:VTIMEZONE
BEGIN:VEVENT
DTSTART;TZID=America/Los_Angeles:20260331T163000
DTEND;TZID=America/Los_Angeles:20260331T181500
X-MICROSOFT-CDO-ALLDAYEVENT:FALSE
SUMMARY:NAIOP SFBA Annual Sponsor Appreciation Happy Hour & Educational Event
DESCRIPTION:Chapter Sponsors\, join us for an exclusive evening of appreciation\, insight\, and connection at the exciting new Studio at Mission Rock. We're raising a glass to our valued Annual Sponsors and offering a unique opportunity to: Enjoy a curated happy hour with fellow industry leaders Get an inside look at the latest legislative updates from the City of San Francisco\, presented by Chris Gruwell of New Deal Advisors\, NAIOP SFBA's local lobbyist team Take guided tours of this dynamic new Mission Rock space and see firsthand what makes it such an exciting addition to the Bay AreaThis event is open to Chapter Sponsors Only. Please sign in to register. Questions? Email admin@naiopsfba.org
X-ALT-DESC;FMTTYPE=text/html:<!DOCTYPE html><html><head><title></title></head><body aria-disabled="false"><p>Chapter Sponsors\, join us for an exclusive evening of appreciation\, insight\, and connection at the exciting new Studio at Mission Rock.&nbsp\;</p><p>We&rsquo\;re raising a glass to our valued Annual Sponsors and offering a unique opportunity to:&nbsp\;</p><ul fr-original-style="" style="list-style-position: inside\;"><li>Enjoy a curated happy hour with fellow industry leaders&nbsp\;</li><li>Get an inside look at the latest legislative updates from the City of San Francisco\, presented by Chris Gruwell of New Deal Advisors\, NAIOP SFBA&rsquo\;s local lobbyist team&nbsp\;</li><li>Take guided tours of this dynamic new Mission Rock space and see firsthand what makes it such an exciting addition to the Bay Area</li></ul><p>This event is open to Chapter Sponsors Only. Please sign in to register. Questions? Email admin@naiopsfba.org</p></body></html>
LOCATION:365 Toni Stone Xing San Francisco 94158
UID:e.4633.1411735
SEQUENCE:3
DTSTAMP:20260421T083759Z
URL:https://members.naiopsfba.org/event-calendar/Details/naiop-sfba-annual-sponsor-appreciation-happy-hour-educational-event-1668230?sourceTypeId=Hub
END:VEVENT
END:VCALENDAR
